BEGIN:VCALENDAR
VERSION:2.0
PRODID:-//Weidenthal - ECPv6.15.20//NONSGML v1.0//EN
CALSCALE:GREGORIAN
METHOD:PUBLISH
X-WR-CALNAME:Weidenthal
X-ORIGINAL-URL:https://weidenthal.de
X-WR-CALDESC:Veranstaltungen für Weidenthal
REFRESH-INTERVAL;VALUE=DURATION:PT1H
X-Robots-Tag:noindex
X-PUBLISHED-TTL:PT1H
BEGIN:VTIMEZONE
TZID:Europe/Berlin
BEGIN:DAYLIGHT
TZOFFSETFROM:+0100
TZOFFSETTO:+0200
TZNAME:CEST
DTSTART:20250330T010000
END:DAYLIGHT
BEGIN:STANDARD
TZOFFSETFROM:+0200
TZOFFSETTO:+0100
TZNAME:CET
DTSTART:20251026T010000
END:STANDARD
BEGIN:DAYLIGHT
TZOFFSETFROM:+0100
TZOFFSETTO:+0200
TZNAME:CEST
DTSTART:20260329T010000
END:DAYLIGHT
BEGIN:STANDARD
TZOFFSETFROM:+0200
TZOFFSETTO:+0100
TZNAME:CET
DTSTART:20261025T010000
END:STANDARD
BEGIN:DAYLIGHT
TZOFFSETFROM:+0100
TZOFFSETTO:+0200
TZNAME:CEST
DTSTART:20270328T010000
END:DAYLIGHT
BEGIN:STANDARD
TZOFFSETFROM:+0200
TZOFFSETTO:+0100
TZNAME:CET
DTSTART:20271031T010000
END:STANDARD
END:VTIMEZONE
BEGIN:VEVENT
DTSTART;TZID=Europe/Berlin:20260729T140000
DTEND;TZID=Europe/Berlin:20260729T140000
DTSTAMP:20260421T111309
CREATED:20251112T214733Z
LAST-MODIFIED:20251112T214733Z
UID:8290-1785333600-1785333600@weidenthal.de
SUMMARY:Weidenthaler Bürgercafé
DESCRIPTION:Gastgeber: N.N.
URL:https://weidenthal.de/event/weidenthaler-buergercafe-13/
LOCATION:Prot. Gemeindesaal\, Langentalstraße 16\, Weidenthal\, 67475\, Deutschland
CATEGORIES:Bürgercafé,Termine 2026
ATTACH;FMTTYPE=image/jpeg:https://weidenthal.de/wp-content/uploads/2023/10/bccoffee.jpg
END:VEVENT
END:VCALENDAR