BEGIN:VCALENDAR
VERSION:2.0
PRODID:-//Weidenthal - ECPv6.15.20//NONSGML v1.0//EN
CALSCALE:GREGORIAN
METHOD:PUBLISH
X-ORIGINAL-URL:https://weidenthal.de
X-WR-CALDESC:Veranstaltungen für Weidenthal
REFRESH-INTERVAL;VALUE=DURATION:PT1H
X-Robots-Tag:noindex
X-PUBLISHED-TTL:PT1H
BEGIN:VTIMEZONE
TZID:Europe/Berlin
BEGIN:DAYLIGHT
TZOFFSETFROM:+0100
TZOFFSETTO:+0200
TZNAME:CEST
DTSTART:20250330T010000
END:DAYLIGHT
BEGIN:STANDARD
TZOFFSETFROM:+0200
TZOFFSETTO:+0100
TZNAME:CET
DTSTART:20251026T010000
END:STANDARD
BEGIN:DAYLIGHT
TZOFFSETFROM:+0100
TZOFFSETTO:+0200
TZNAME:CEST
DTSTART:20260329T010000
END:DAYLIGHT
BEGIN:STANDARD
TZOFFSETFROM:+0200
TZOFFSETTO:+0100
TZNAME:CET
DTSTART:20261025T010000
END:STANDARD
BEGIN:DAYLIGHT
TZOFFSETFROM:+0100
TZOFFSETTO:+0200
TZNAME:CEST
DTSTART:20270328T010000
END:DAYLIGHT
BEGIN:STANDARD
TZOFFSETFROM:+0200
TZOFFSETTO:+0100
TZNAME:CET
DTSTART:20271031T010000
END:STANDARD
END:VTIMEZONE
BEGIN:VEVENT
DTSTART;VALUE=DATE:20260808
DTEND;VALUE=DATE:20260809
DTSTAMP:20260423T112719
CREATED:20251119T203754Z
LAST-MODIFIED:20251119T205602Z
UID:8497-1786147200-1786233599@weidenthal.de
SUMMARY:- intern - 10-jähriges Freundschaftsfest mit den Basler Whiskyfreunden
DESCRIPTION:Laphroaig Whiskywanderung mit Brand Ambassador Germany Mark Armin Giesler\nBesichtigung Kloster Limburg mit Thomas Kreckel
URL:https://weidenthal.de/event/intern-10-jaehriges-freundschaftsfest-mit-den-basler-whiskyfreunden/
CATEGORIES:intern,Termine 2026,Termine Whisky-Club
END:VEVENT
BEGIN:VEVENT
DTSTART;TZID=Europe/Berlin:20260808T180000
DTEND;TZID=Europe/Berlin:20260808T180000
DTSTAMP:20260423T112719
CREATED:20251113T195827Z
LAST-MODIFIED:20251113T195827Z
UID:8359-1786212000-1786212000@weidenthal.de
SUMMARY:OGV - Cocktailabend
DESCRIPTION:
URL:https://weidenthal.de/event/ogv-cocktailabend/
LOCATION:Mosterei OGV\, CXCP+RJ Weidenthal
CATEGORIES:Termine 2026
END:VEVENT
END:VCALENDAR