BEGIN:VCALENDAR
VERSION:2.0
PRODID:-//Weidenthal - ECPv6.15.20//NONSGML v1.0//EN
CALSCALE:GREGORIAN
METHOD:PUBLISH
X-WR-CALNAME:Weidenthal
X-ORIGINAL-URL:https://weidenthal.de
X-WR-CALDESC:Veranstaltungen für Weidenthal
REFRESH-INTERVAL;VALUE=DURATION:PT1H
X-Robots-Tag:noindex
X-PUBLISHED-TTL:PT1H
BEGIN:VTIMEZONE
TZID:Europe/Berlin
BEGIN:DAYLIGHT
TZOFFSETFROM:+0100
TZOFFSETTO:+0200
TZNAME:CEST
DTSTART:20250330T010000
END:DAYLIGHT
BEGIN:STANDARD
TZOFFSETFROM:+0200
TZOFFSETTO:+0100
TZNAME:CET
DTSTART:20251026T010000
END:STANDARD
BEGIN:DAYLIGHT
TZOFFSETFROM:+0100
TZOFFSETTO:+0200
TZNAME:CEST
DTSTART:20260329T010000
END:DAYLIGHT
BEGIN:STANDARD
TZOFFSETFROM:+0200
TZOFFSETTO:+0100
TZNAME:CET
DTSTART:20261025T010000
END:STANDARD
BEGIN:DAYLIGHT
TZOFFSETFROM:+0100
TZOFFSETTO:+0200
TZNAME:CEST
DTSTART:20270328T010000
END:DAYLIGHT
BEGIN:STANDARD
TZOFFSETFROM:+0200
TZOFFSETTO:+0100
TZNAME:CET
DTSTART:20271031T010000
END:STANDARD
END:VTIMEZONE
BEGIN:VEVENT
DTSTART;TZID=Europe/Berlin:20260925T190000
DTEND;TZID=Europe/Berlin:20260925T190000
DTSTAMP:20260423T130221
CREATED:20251107T090737Z
LAST-MODIFIED:20251122T134553Z
UID:8134-1790362800-1790362800@weidenthal.de
SUMMARY:SLYRS-Whisky-Tasting  mit Head of Brand Experience Helmut Knöpfle
DESCRIPTION:
URL:https://weidenthal.de/event/whisky-tasting/
LOCATION:Schützenhaus\, CX6F+53 Weidenthal
CATEGORIES:Termine 2026,Termine Whisky-Club
END:VEVENT
END:VCALENDAR