BEGIN:VCALENDAR
VERSION:2.0
PRODID:-//Weidenthal - ECPv6.15.20//NONSGML v1.0//EN
CALSCALE:GREGORIAN
METHOD:PUBLISH
X-WR-CALNAME:Weidenthal
X-ORIGINAL-URL:https://weidenthal.de
X-WR-CALDESC:Veranstaltungen für Weidenthal
REFRESH-INTERVAL;VALUE=DURATION:PT1H
X-Robots-Tag:noindex
X-PUBLISHED-TTL:PT1H
BEGIN:VTIMEZONE
TZID:Europe/Berlin
BEGIN:DAYLIGHT
TZOFFSETFROM:+0100
TZOFFSETTO:+0200
TZNAME:CEST
DTSTART:20250330T010000
END:DAYLIGHT
BEGIN:STANDARD
TZOFFSETFROM:+0200
TZOFFSETTO:+0100
TZNAME:CET
DTSTART:20251026T010000
END:STANDARD
BEGIN:DAYLIGHT
TZOFFSETFROM:+0100
TZOFFSETTO:+0200
TZNAME:CEST
DTSTART:20260329T010000
END:DAYLIGHT
BEGIN:STANDARD
TZOFFSETFROM:+0200
TZOFFSETTO:+0100
TZNAME:CET
DTSTART:20261025T010000
END:STANDARD
BEGIN:DAYLIGHT
TZOFFSETFROM:+0100
TZOFFSETTO:+0200
TZNAME:CEST
DTSTART:20270328T010000
END:DAYLIGHT
BEGIN:STANDARD
TZOFFSETFROM:+0200
TZOFFSETTO:+0100
TZNAME:CET
DTSTART:20271031T010000
END:STANDARD
END:VTIMEZONE
BEGIN:VEVENT
DTSTART;VALUE=DATE:20261004
DTEND;VALUE=DATE:20261011
DTSTAMP:20260423T130103
CREATED:20260108T122419Z
LAST-MODIFIED:20260108T123316Z
UID:8600-1791072000-1791676799@weidenthal.de
SUMMARY:ORH - Sport- und Kreativfreizeit in Weidenthal
DESCRIPTION:Alter: 8 – 12 Jahre\nPreis: 198\,- € \nAnmeldung unter https://www.orh.de/assets/anmeldung.pdf
URL:https://weidenthal.de/event/orh-sport-und-kreativfreizeit-in-weidenthal/
LOCATION:Otto-Riethmüller-Haus\, CX7F+PF Weidenthal
CATEGORIES:Termine 2026
END:VEVENT
BEGIN:VEVENT
DTSTART;VALUE=DATE:20261004
DTEND;VALUE=DATE:20261011
DTSTAMP:20260423T130103
CREATED:20260108T123015Z
LAST-MODIFIED:20260108T123150Z
UID:8602-1791072000-1791676799@weidenthal.de
SUMMARY:ORH Jugendfreizeit in Weidenthal
DESCRIPTION:Alter: 13 – 15 Jahre\nPreis: 205\,- € \nAnmeldung unter https://www.orh.de/assets/anmeldung.pdf
URL:https://weidenthal.de/event/orh-jugendfreizeit-in-weidenthal/
LOCATION:Otto-Riethmüller-Haus\, CX7F+PF Weidenthal
CATEGORIES:Termine 2026
END:VEVENT
BEGIN:VEVENT
DTSTART;TZID=Europe/Berlin:20261004T100000
DTEND;TZID=Europe/Berlin:20261004T100000
DTSTAMP:20260423T130103
CREATED:20251021T093437Z
LAST-MODIFIED:20251021T093437Z
UID:8014-1791108000-1791108000@weidenthal.de
SUMMARY:PWV Wanderung  zur Veranstaltung "römische Weinlese"
DESCRIPTION:TP: 10:00 Uhr Kerweplatz Fahrt nach Bad Dürkheim\nEinkehr: Römisches Weingut\nWF: Thomas Mann
URL:https://weidenthal.de/event/pwv-wanderung-zur-veranstaltung-roemische-weinlese/
CATEGORIES:PWV Wandern/Mountainbike,Termine 2026
ATTACH;FMTTYPE=image/jpeg:https://weidenthal.de/wp-content/uploads/2025/10/logopwv.jpg
END:VEVENT
END:VCALENDAR