BEGIN:VCALENDAR
VERSION:2.0
PRODID:-//Weidenthal - ECPv6.15.20//NONSGML v1.0//EN
CALSCALE:GREGORIAN
METHOD:PUBLISH
X-WR-CALNAME:Weidenthal
X-ORIGINAL-URL:https://weidenthal.de
X-WR-CALDESC:Veranstaltungen für Weidenthal
REFRESH-INTERVAL;VALUE=DURATION:PT1H
X-Robots-Tag:noindex
X-PUBLISHED-TTL:PT1H
BEGIN:VTIMEZONE
TZID:Europe/Berlin
BEGIN:DAYLIGHT
TZOFFSETFROM:+0100
TZOFFSETTO:+0200
TZNAME:CEST
DTSTART:20250330T010000
END:DAYLIGHT
BEGIN:STANDARD
TZOFFSETFROM:+0200
TZOFFSETTO:+0100
TZNAME:CET
DTSTART:20251026T010000
END:STANDARD
BEGIN:DAYLIGHT
TZOFFSETFROM:+0100
TZOFFSETTO:+0200
TZNAME:CEST
DTSTART:20260329T010000
END:DAYLIGHT
BEGIN:STANDARD
TZOFFSETFROM:+0200
TZOFFSETTO:+0100
TZNAME:CET
DTSTART:20261025T010000
END:STANDARD
BEGIN:DAYLIGHT
TZOFFSETFROM:+0100
TZOFFSETTO:+0200
TZNAME:CEST
DTSTART:20270328T010000
END:DAYLIGHT
BEGIN:STANDARD
TZOFFSETFROM:+0200
TZOFFSETTO:+0100
TZNAME:CET
DTSTART:20271031T010000
END:STANDARD
END:VTIMEZONE
BEGIN:VEVENT
DTSTART;TZID=Europe/Berlin:20261212T093000
DTEND;TZID=Europe/Berlin:20261212T093000
DTSTAMP:20260423T175249
CREATED:20251020T162016Z
LAST-MODIFIED:20251021T093547Z
UID:7971-1797067800-1797067800@weidenthal.de
SUMMARY:PWV Wanderung nach Esthal zur Wolfsschluchthütte
DESCRIPTION:TP: 09:30 Uhr Kerweplatz\nWF: Matthias Christmann
URL:https://weidenthal.de/event/pwv-wanderung-nach-esthal-zur-wolfsschluchthuette-2/
CATEGORIES:PWV Wandern/Mountainbike,Termine 2026
ATTACH;FMTTYPE=image/jpeg:https://weidenthal.de/wp-content/uploads/2025/10/logopwv.jpg
END:VEVENT
BEGIN:VEVENT
DTSTART;TZID=Europe/Berlin:20261212T120000
DTEND;TZID=Europe/Berlin:20261212T120000
DTSTAMP:20260423T175249
CREATED:20251108T101106Z
LAST-MODIFIED:20251108T101106Z
UID:8192-1797076800-1797076800@weidenthal.de
SUMMARY:FCW Weihnachtsfeier Verein
DESCRIPTION:
URL:https://weidenthal.de/event/fcw-weihnachtsfeier-verein/
LOCATION:FCW Sportheim\, CX7F+QW Weidenthal
CATEGORIES:intern,Termine 2026,Termine FC Wacker
ATTACH;FMTTYPE=image/jpeg:https://weidenthal.de/wp-content/uploads/2019/03/logowacker.jpg
END:VEVENT
END:VCALENDAR