BEGIN:VCALENDAR
VERSION:2.0
PRODID:-//Weidenthal - ECPv6.15.20//NONSGML v1.0//EN
CALSCALE:GREGORIAN
METHOD:PUBLISH
X-ORIGINAL-URL:https://weidenthal.de
X-WR-CALDESC:Veranstaltungen für Weidenthal
REFRESH-INTERVAL;VALUE=DURATION:PT1H
X-Robots-Tag:noindex
X-PUBLISHED-TTL:PT1H
BEGIN:VTIMEZONE
TZID:Europe/Berlin
BEGIN:DAYLIGHT
TZOFFSETFROM:+0100
TZOFFSETTO:+0200
TZNAME:CEST
DTSTART:20250330T010000
END:DAYLIGHT
BEGIN:STANDARD
TZOFFSETFROM:+0200
TZOFFSETTO:+0100
TZNAME:CET
DTSTART:20251026T010000
END:STANDARD
BEGIN:DAYLIGHT
TZOFFSETFROM:+0100
TZOFFSETTO:+0200
TZNAME:CEST
DTSTART:20260329T010000
END:DAYLIGHT
BEGIN:STANDARD
TZOFFSETFROM:+0200
TZOFFSETTO:+0100
TZNAME:CET
DTSTART:20261025T010000
END:STANDARD
BEGIN:DAYLIGHT
TZOFFSETFROM:+0100
TZOFFSETTO:+0200
TZNAME:CEST
DTSTART:20270328T010000
END:DAYLIGHT
BEGIN:STANDARD
TZOFFSETFROM:+0200
TZOFFSETTO:+0100
TZNAME:CET
DTSTART:20271031T010000
END:STANDARD
END:VTIMEZONE
BEGIN:VEVENT
DTSTART;TZID=Europe/Berlin:20261226T150000
DTEND;TZID=Europe/Berlin:20261226T150000
DTSTAMP:20260423T175649
CREATED:20251030T195436Z
LAST-MODIFIED:20251030T195548Z
UID:8079-1798297200-1798297200@weidenthal.de
SUMMARY:Waldweihnachtsgottesdienst auf der Musikranch
DESCRIPTION:
URL:https://weidenthal.de/event/waldweihnachtsgottesdienst-auf-der-musikranch/
LOCATION:Musikranch im Franzosental\, CX9G+6Q Weidenthal\, Weidenthal\, 67475\, Deutschland
CATEGORIES:Termine 2026
END:VEVENT
END:VCALENDAR